Workbook

Sheet IMAGE-Parung-Panjang

Sheet RAB-Parung-Panjang (L-1)
B1: BILL OF QUANTITY
G2: Jakarta 18 Juni 2024
F5: Nama pemborong / kontraktor | H5: :
F6: Alamat | H6: :
F7: No telephone | H7: : 081XXX
F8: Uraian pekerjaan No | H8: :
F9: Pekerjaan | H9: : RENOVASI
F10: Lokasi | H10: : SAN PROPERTY
H11: : PARUNG PANJANG, BOGOR
B13: NO | C13: URAIAN PEKERJAAN LANTAI 1 | D13: SAT | E13: VOL | F13: HARGA SAT | G13: JUMLAH HARGA | H13: NOTE
F14: (RP) | G14: (RP)
B15: A | C15: PEKERJAAN PERSIAPAN | F15: TOTAL RP: | G15: =SUM(G16:G20) -> 0
C16: Pesiapan & perijinan lingkungan, realestate, P2B dsb | D16: Ls | G16: =F16*E16 -> 0
C17: Pekerjaan pengukuran persiapan dan bouwplank | D17: M² | G17: =F17*E17 -> 0
C18: Pekerjaan stan meter meter PLN
C19: Pekerjaan sumur kerja
B21: B | C21: PEKERJAAN TANAH GALIAN & BOBOKAN | G21: =SUM(G22:G26) -> 0
C22: Galian tanah pondasi & sloof | D22: Ls | F22: 2250000 | G22: =F22*E22 -> 0
C23: Galian tanah jalur AH, AK, ABK | D23: M¹ | F23: 450000 | G23: =F23*E23 -> 0 | H23: PVC type D
C24: Galian tanah sumur septictank
C25: Pekerjaan bobokan | D25: Ls | F25: 350000
B27: C | C27: PEKERJAAN BETON | F27: TOTAL RP: | G27: =SUM(G28:G34) -> 0
C28: Pekerjaan borpile / minipail | D28: Ttk | F28: 3880000 | G28: =F28*E28 -> 0 | H28: pembesian 150kg/M³
C29: Pekerjaan pondasi setempat | D29: M³ | F29: 3880000 | G29: =F29*E29 -> 0 | H29: pembesian 150 kg/M³
C30: Pekerjaan sloof | D30: M³ | F30: 3880000 | G30: =F30*E30 -> 0 | H30: pembesian 150 kg/M³
C31: Pekerjaan kolom | D31: M³ | F31: 5180000 | G31: =F31*E31 -> 0 | H31: pembesian 300 kg/M³
C32: Pekerjaan balok lintol | D32: M¹ | F32: 165000 | G32: =F32*E32 -> 0
C33: Pekerjaan balok lantai 2 | D33: M³ | F33: 4700000 | G33: =F33*E33 -> 0 | H33: pembesian 250 kg/M³
B35: D | C35: PEKERJAAN DINDING | F35: TOTAL RP: | G35: =SUM(G36:G41) -> 0
C36: Pekerjaan pasangan bata peningian dinding | D36: M² | F36: 132400 | G36: =F36*E36 -> 0
C37: Pekerjaan plesteran & acian | D37: M² | F37: 112500 | G37: =F37*E37 -> 0
C38: Pekerjaan dinding partisi | D38: M² | G38: =F38*E38 -> 0
C39: Pekerjaan dinding kaca | D39: M² | G39: =F39*E39 -> 0
C40: Pekerjaan opening pintu dan jendela | D40: Ls | F40: 420000 | G40: =F40*E40 -> 0
B42: E | C42: PEKERJAAN PLAFON +300 | F42: TOTAL RP: | G42: =SUM(G43:G47) -> 0
C43: Pekerjaan rangka plafon | D43: M² | F43: 27500 | G43: =F43*E43 -> 0
C44: Pekerjaan pelapis plafon | D44: M² | F44: 145000 | G44: =F44*E44 -> 0 | H44: c 0,75 + 0,40
C45: Pekerjaan list / shadowline | D45: M² | F45: 125600 | G45: =F45*E45 -> 0
C46: Pekerjaan drop / up ceilling | D46: M¹ | F46: 226000 | G46: =F46*E46 -> 0
B48: F | C48: PEKERJAAN PINTU & JENDELA | F48: TOTAL RP: | G48: =SUM(G49:G52) -> 0
...

Sheet RAB-Parung-Panjang (L-2)
B1: BILL OF QUANTITY
G2: Jakarta 18 Juni 2024
F5: Nama pemborong / kontraktor | H5: :
F6: Alamat | H6: :
F7: No telephone | H7: : 081XXX
F8: Uraian pekerjaan No | H8: :
F9: Pekerjaan | H9: : RENOVASI
F10: Lokasi | H10: : SAN PROPERTY
H11: : PARUNG PANJANG, BOGOR
B13: NO | C13: URAIAN PEKERJAAN LANTAI 1 | D13: SAT | E13: VOL | F13: HARGA SAT | G13: JUMLAH HARGA | H13: NOTE
F14: (RP) | G14: (RP)
B15: A | C15: PEKERJAAN PERSIAPAN | F15: TOTAL RP: | G15: =SUM(G16:G20) -> 0
C16: Pesiapan & perijinan lingkungan, realestate, P2B dsb | D16: Ls | G16: =F16*E16 -> 0
C17: Pekerjaan pengukuran persiapan dan bouwplank | D17: M² | G17: =F17*E17 -> 0
C18: Pekerjaan stan meter meter PLN
C19: Pekerjaan sumur kerja
B21: B | C21: PEKERJAAN TANAH GALIAN & BOBOKAN | G21: =SUM(G22:G26) -> 0
C22: Galian tanah pondasi & sloof | D22: Ls | F22: 2250000 | G22: =F22*E22 -> 0
C23: Galian tanah jalur AH, AK, ABK | D23: M¹ | F23: 450000 | G23: =F23*E23 -> 0 | H23: PVC type D
C24: Galian tanah sumur septictank
C25: Pekerjaan bobokan | D25: Ls | F25: 350000
B27: C | C27: PEKERJAAN BETON | F27: TOTAL RP: | G27: =SUM(G28:G34) -> 0
C28: Pekerjaan borpile / minipail | D28: Ttk | F28: 3880000 | G28: =F28*E28 -> 0 | H28: pembesian 150kg/M³
C29: Pekerjaan pondasi setempat | D29: M³ | F29: 3880000 | G29: =F29*E29 -> 0 | H29: pembesian 150 kg/M³
C30: Pekerjaan sloof | D30: M³ | F30: 3880000 | G30: =F30*E30 -> 0 | H30: pembesian 150 kg/M³
C31: Pekerjaan kolom | D31: M³ | F31: 5180000 | G31: =F31*E31 -> 0 | H31: pembesian 300 kg/M³
C32: Pekerjaan balok lintol | D32: M¹ | F32: 165000 | G32: =F32*E32 -> 0
C33: Pekerjaan balok lantai 2 | D33: M³ | F33: 4700000 | G33: =F33*E33 -> 0 | H33: pembesian 250 kg/M³
B35: D | C35: PEKERJAAN DINDING | F35: TOTAL RP: | G35: =SUM(G36:G41) -> 0
C36: Pekerjaan pasangan bata peningian dinding | D36: M² | F36: 132400 | G36: =F36*E36 -> 0
C37: Pekerjaan plesteran & acian | D37: M² | F37: 112500 | G37: =F37*E37 -> 0
C38: Pekerjaan dinding partisi | D38: M² | G38: =F38*E38 -> 0
C39: Pekerjaan dinding kaca | D39: M² | G39: =F39*E39 -> 0
C40: Pekerjaan opening pintu dan jendela | D40: Ls | F40: 420000 | G40: =F40*E40 -> 0
B42: E | C42: PEKERJAAN ATAP | F42: TOTAL RP: | G42: =SUM(G43:G49) -> 0
C43: Pekerjaan bongkaran atap | D43: M² | F43: 27500 | G43: =F43*E43 -> 0
C44: Pekerjaan rangka atap baja ringan | D44: M² | F44: 145000 | G44: =F44*E44 -> 0 | H44: c 0,75 + 0,40
C45: Pekerjaan penutup atap genteng beton flat | D45: M² | F45: 125600 | G45: =F45*E45 -> 0
C46: Pekerjaan nok | D46: M¹ | F46: 226000 | G46: =F46*E46 -> 0
C47: Pekerjaan roofdrain | D47: Ttk | F47: 135000 | G47: =F47*E47 -> 0
...

Sheet RAB-Parung-Panjang (L-3)
B1: BILL OF QUANTITY
G2: Jakarta 18 Juni 2024
F5: Nama pemborong / kontraktor | H5: :
F6: Alamat | H6: :
F7: No telephone | H7: : 081XXX
F8: Uraian pekerjaan No | H8: :
F9: Pekerjaan | H9: : RENOVASI
F10: Lokasi | H10: : SAN PROPERTY
H11: : PARUNG PANJANG, BOGOR
B13: NO | C13: URAIAN PEKERJAAN LANTAI 1 | D13: SAT | E13: VOL | F13: HARGA SAT | G13: JUMLAH HARGA | H13: NOTE
F14: (RP) | G14: (RP)
B15: A | C15: PEKERJAAN PERSIAPAN | F15: TOTAL RP: | G15: =SUM(G16:G20) -> 0
C16: Pesiapan & perijinan lingkungan, realestate, P2B dsb | D16: Ls | G16: =F16*E16 -> 0
C17: Pekerjaan pengukuran persiapan dan bouwplank | D17: M² | G17: =F17*E17 -> 0
C18: Pekerjaan stan meter meter PLN
C19: Pekerjaan sumur kerja
B21: B | C21: PEKERJAAN TANAH GALIAN & BOBOKAN | G21: =SUM(G22:G26) -> 0
C22: Galian tanah pondasi & sloof | D22: Ls | F22: 2250000 | G22: =F22*E22 -> 0
C23: Galian tanah jalur AH, AK, ABK | D23: M¹ | F23: 450000 | G23: =F23*E23 -> 0 | H23: PVC type D
C24: Galian tanah sumur septictank
C25: Pekerjaan bobokan | D25: Ls | F25: 350000
B27: C | C27: PEKERJAAN BETON | F27: TOTAL RP: | G27: =SUM(G28:G34) -> 0
C28: Pekerjaan borpile / minipail | D28: Ttk | F28: 3880000 | G28: =F28*E28 -> 0 | H28: pembesian 150kg/M³
C29: Pekerjaan pondasi setempat | D29: M³ | F29: 3880000 | G29: =F29*E29 -> 0 | H29: pembesian 150 kg/M³
C30: Pekerjaan sloof | D30: M³ | F30: 3880000 | G30: =F30*E30 -> 0 | H30: pembesian 150 kg/M³
C31: Pekerjaan kolom | D31: M³ | F31: 5180000 | G31: =F31*E31 -> 0 | H31: pembesian 300 kg/M³
C32: Pekerjaan balok lintol | D32: M¹ | F32: 165000 | G32: =F32*E32 -> 0
C33: Pekerjaan balok lantai 2 | D33: M³ | F33: 4700000 | G33: =F33*E33 -> 0 | H33: pembesian 250 kg/M³
B35: D | C35: PEKERJAAN DINDING | F35: TOTAL RP: | G35: =SUM(G36:G41) -> 0
C36: Pekerjaan pasangan bata peningian dinding | D36: M² | F36: 132400 | G36: =F36*E36 -> 0
C37: Pekerjaan plesteran & acian | D37: M² | F37: 112500 | G37: =F37*E37 -> 0
C38: Pekerjaan dinding partisi | D38: M² | G38: =F38*E38 -> 0
C39: Pekerjaan dinding kaca | D39: M² | G39: =F39*E39 -> 0
C40: Pekerjaan opening pintu dan jendela | D40: Ls | F40: 420000 | G40: =F40*E40 -> 0
B42: E | C42: PEKERJAAN ATAP | F42: TOTAL RP: | G42: =SUM(G43:G49) -> 0
C43: Pekerjaan bongkaran atap | D43: M² | F43: 27500 | G43: =F43*E43 -> 0
C44: Pekerjaan rangka atap baja ringan | D44: M² | F44: 145000 | G44: =F44*E44 -> 0 | H44: c 0,75 + 0,40
C45: Pekerjaan penutup atap genteng beton flat | D45: M² | F45: 125600 | G45: =F45*E45 -> 0
C46: Pekerjaan nok | D46: M¹ | F46: 226000 | G46: =F46*E46 -> 0
C47: Pekerjaan roofdrain | D47: Ttk | F47: 135000 | G47: =F47*E47 -> 0
...

Sheet RAB-Parung-Panjang (L-4)
B1: BILL OF QUANTITY
G2: Jakarta 18 Juni 2024
F5: Nama pemborong / kontraktor | H5: :
F6: Alamat | H6: :
F7: No telephone | H7: : 081XXX
F8: Uraian pekerjaan No | H8: :
F9: Pekerjaan | H9: : RENOVASI
F10: Lokasi | H10: : SAN PROPERTY
H11: : PARUNG PANJANG, BOGOR
B13: NO | C13: URAIAN PEKERJAAN LANTAI 1 | D13: SAT | E13: VOL | F13: HARGA SAT | G13: JUMLAH HARGA | H13: NOTE
F14: (RP) | G14: (RP)
B15: A | C15: PEKERJAAN PERSIAPAN | F15: TOTAL RP: | G15: =SUM(G16:G20) -> 0
C16: Pesiapan & perijinan lingkungan, realestate, P2B dsb | D16: Ls | G16: =F16*E16 -> 0
C17: Pekerjaan pengukuran persiapan dan bouwplank | D17: M² | G17: =F17*E17 -> 0
C18: Pekerjaan stan meter meter PLN
C19: Pekerjaan sumur kerja
B21: B | C21: PEKERJAAN TANAH GALIAN & BOBOKAN | G21: =SUM(G22:G26) -> 0
C22: Galian tanah pondasi & sloof | D22: Ls | F22: 2250000 | G22: =F22*E22 -> 0
C23: Galian tanah jalur AH, AK, ABK | D23: M¹ | F23: 450000 | G23: =F23*E23 -> 0 | H23: PVC type D
C24: Galian tanah sumur septictank
C25: Pekerjaan bobokan | D25: Ls | F25: 350000
B27: C | C27: PEKERJAAN BETON | F27: TOTAL RP: | G27: =SUM(G28:G34) -> 0
C28: Pekerjaan borpile / minipail | D28: Ttk | F28: 3880000 | G28: =F28*E28 -> 0 | H28: pembesian 150kg/M³
C29: Pekerjaan pondasi setempat | D29: M³ | F29: 3880000 | G29: =F29*E29 -> 0 | H29: pembesian 150 kg/M³
C30: Pekerjaan sloof | D30: M³ | F30: 3880000 | G30: =F30*E30 -> 0 | H30: pembesian 150 kg/M³
C31: Pekerjaan kolom | D31: M³ | F31: 5180000 | G31: =F31*E31 -> 0 | H31: pembesian 300 kg/M³
C32: Pekerjaan balok lintol | D32: M¹ | F32: 165000 | G32: =F32*E32 -> 0
C33: Pekerjaan balok lantai 2 | D33: M³ | F33: 4700000 | G33: =F33*E33 -> 0 | H33: pembesian 250 kg/M³
B35: D | C35: PEKERJAAN DINDING | F35: TOTAL RP: | G35: =SUM(G36:G41) -> 0
C36: Pekerjaan pasangan bata peningian dinding | D36: M² | F36: 132400 | G36: =F36*E36 -> 0
C37: Pekerjaan plesteran & acian | D37: M² | F37: 112500 | G37: =F37*E37 -> 0
C38: Pekerjaan dinding partisi | D38: M² | G38: =F38*E38 -> 0
C39: Pekerjaan dinding kaca | D39: M² | G39: =F39*E39 -> 0
C40: Pekerjaan opening pintu dan jendela | D40: Ls | F40: 420000 | G40: =F40*E40 -> 0
B42: E | C42: PEKERJAAN PLAFON + 3.00 | F42: TOTAL RP: | G42: =SUM(G43:G47) -> 0
C43: Pekerjaan rangka plafon | D43: M² | F43: 65000 | G43: =F43*E43 -> 0
C44: Pekerjaan pelapis plafon | D44: M² | F44: 45000 | G44: =F44*E44 -> 0 | H44: c 0,75 + 0,40
C45: Pekerjaan list / shadowline | D45: M² | F45: 1300000 | G45: =F45*E45 -> 0
C46: Pekerjaan drop / up ceilling | D46: M¹ | F46: 1250000 | G46: =F46*E46 -> 0
B48: F | C48: PEKERJAAN PINTU & JENDELA | F48: TOTAL RP: | G48: =SUM(G49:G52) -> 0
...

Sheet RAB-Parung-Panjang-Additional
B1: BILL OF QUANTITY / ADDITIONAL
G2: ='RAB-Parung-Panjang (L-1)'!G2 -> Jakarta 18 Juni 2024
E5: Nama pemborong / kontraktor | H5: :
E6: Alamat | H6: :
E7: No telephone | H7: : 081XXX
E8: Uraian pekerjaan no | H8: :
E9: Pekerjaan | H9: ='RAB-Parung-Panjang (L-1)'!H9 -> : RENOVASI
E10: Lokasi | H10: ='RAB-Parung-Panjang (L-1)'!H10 -> : SAN PROPERTY
H11: ='RAB-Parung-Panjang (L-1)'!H11 -> : PARUNG PANJANG, BOGOR
B13: NO | C13: URAIAN PEKERJAAN | D13: SAT | E13: VOL | F13: HARGA SAT | G13: JUMLAH HARGA | H13: NOTE
F14: (RP) | G14: (RP)
B15: A | C15: PEKERJAAN AREA UTAMA CH | F15: TOTAL RP: | G15: =SUM(G16:G31) -> 3183300
C16: Pekerjaan cat plitur meja 340 x 60 x 80 | D16: M¹ | E16: 3.4 | F16: 44000 | G16: =F16*E16 -> 149600
C17: Pekerjaan cat plitur meja tv 150 x 45 x 100 | D17: M¹ | E17: 1.5 | F17: 44000 | G17: =F17*E17 -> 66000
C18: Pekerjaan cat plitur meja 253 x 65 x 120 | D18: M¹ | E18: 2.53 | F18: 44000 | G18: =F18*E18 -> 111320
C19: Pekerjaan cat plitur panel dinding 240 x 270 | D19: M² | E19: 6.48 | F19: 22000 | G19: =F19*E19 -> 142560
C20: Pekerjaan cat plitur panel dinding 384 x 250 | D20: M² | E20: 9.6 | F20: 22000 | G20: =F20*E20 -> 211200
C21: Pekerjaan cat plitur box lampu | D21: Ls | E21: 1 | F21: 75000 | G21: =F21*E21 -> 75000
C22: Pekerjaan cat plitur pintu kantor | D22: Unit | E22: 1 | F22: 75000 | G22: =F22*E22 -> 75000
C23: Pekerjaan cat lantai akses masuk jalan utama | D23: M² | E23: 20.7 | F23: 22000 | G23: =F23*E23 -> 455400
C24: Pekerjaan cat lantai teras akses masuk jalan utama | D24: M² | E24: 6.01 | F24: 22000 | G24: =F24*E24 -> 132220
C25: Pekerjaan stop kontak lantai bosscom | D25: Ttk | E25: 2 | F25: 345000 | G25: =F25*E25 -> 690000
C26: Pekerjaan stop kontak dinding panasonic | D26: Ttk | E26: 5 | F26: 30000 | G26: =F26*E26 -> 150000
C27: Pekerjaan saklar dinding panasonic | D27: Ttk | E27: 5 | F27: 35000 | G27: =F27*E27 -> 175000
... C29: Pekerjaan service AC ( pindah outdoor, tambah pipa + cuci ) | D29: Unit | E29: 1 | F29: 550000 | G29: =F29*E29 -> 550000
B32: B | C32: PEKERJAAN AREA SELASAR | F32: TOTAL RP: | G32: =SUM(G33:G35) -> 250000
C33: Pekerjaan kabel CCTV cat 5e | D33: M¹ | E33: 25 | F33: 10000 | G33: =F33*E33 -> 250000
B36: C | C36: PEKERJAAN AREA TOILET / FITNES | F36: TOTAL RP: | G36: =SUM(G37:G42) -> 1260000
C37: Pekerjaan cat plitur kusen dan pintu fitnes | D37: Unit | E37: 1 | F37: 75000 | G37: =F37*E37 -> 75000
C38: Pekerjaan cat plitur kusen dan pintu toilet | D38: Unit | E38: 8 | F38: 75000 | G38: =F38*E38 -> 600000
C39: Pekerjaan cat plitur frame cermin | D39: Unit | E39: 1 | F39: 35000 | G39: =F39*E39 -> 35000
C40: Pekerjaan kabel CCTV cat 5e | D40: M¹ | E40: 55 | F40: 10000 | G40: =F40*E40 -> 550000
B43: D | C43: PEKERJAAN LAIN-LAIN | G43: =SUM(G44:G45) -> 0
B46: E | C46: PEKERJAAN AREA KOLAM | G46: =SUM(G47:G51) -> 748340
C47: Pekerjaan perbaikan retakan gavel kolam | D47: Ls | E47: 1 | F47: 50000 | G47: =F47*E47 -> 50000
C48: Pekerjaan perbaikan retakan gutter kolam | D48: Ls | E48: 1 | F48: 50000 | G48: =F48*E48 -> 50000
C49: Pekerjaan cat lantai sekitar kolam sisi selatan | D49: M² | E49: 24.9 | F49: 22000 | G49: =F49*E49 -> 547800
C50: Pekerjaan cat lantai sekitar kolam sisi timur arah selasar | D50: M² | E50: 4.57 | F50: 22000 | G50: =F50*E50 -> 100540
B52: F | C52: PEKERJAAN AREA TAMAN | G52: =SUM(G53:G62) -> 9625000
C53: Pekerjaan kabel lampu taman NYY 2 x 1.5 | D53: M¹ | E53: 55 | F53: 15000 | G53: =F53*E53 -> 825000
...

Sheet NOTA-Negoisasi-Parung-Panjang
B1: Nomor | C1: : 007/CYB/NH/EM-CII/06/2024 | H1: ='RAB-Parung-Panjang (L-1)'!G2 -> Jakarta 18 Juni 2024
B2: Lampiran | C2: : -
B3: Hari/Tanggal | C3: : ...............
B4: Tempat | C4: :
B5: Agenda | C5: : Pekerjaan Kost Parung Panjang
B6: Peserta | C6: :
C7: :
C8: :
C9: :
B11: NOTA KESEPAKATAN
B13: KEPUTUSAN & KESEPAKATAN
B15: 1. Kesepakatan harga dari penawaran tertanggal ................/........................./2024
B16: *
B17: *
B18: *
B19: 2. Scope pekerjaan
B20: *
B21: *
B22: *
B23: *
B24: *
... B52: PENGESAHAN
B55: Yastiko Arno | E55: Mengetahui | I55: Menyetujui
B60: Yastiko Arno | E60: Estate | I60: Estate
B61: +62818811089

Sheet BAST-Parung-Panjang
B1: Nomor | C1: : 007/CYB/PRE/EM-CII/VI/2024 | G1: ='RAB-Parung-Panjang (L-1)'!G2 -> Jakarta 18 Juni 2024
B2: Lampiran | C2: : -
B3: Kepada Yth | C3: : PREMIER PAVILION
C4: : Up. Bpk YAMIN
B5: Nomor Telp | C5: : 081xxxxxxx
B6: Perihal | C6: : Berita Acara
B9: BERITA ACARA
B10: PEKERJAAN RENOVASI CLUB HOUSE
B12: Pada hari ini tiga puluh satu agustus dua ribu dua puluh tiga kami yang bertanda tangan di bawah ini :
B14: 1 | C14: Nama | D14: : Yastiko Arno
C15: Perusahaan | D15: :
C16: Alamat | D16: : Jln. Warung Gantung Rawalele Rt 003 Rw 010
D17: : Blok C No 120-121 Kalideres, Jakarta Barat
B18: Selanjutnya di sebut Pihak Pelaksana Pekerjaan
B20: 2 | C20: Nama | D20: : Bpk. Yamin
C21: Perusahaan | D21: :
C22: Alamat | D22: : Premier Pavilion, Pegadungan, Kalideres
D23: : Kalideres, Jakarta Barat
B25: Selanjutnya di sebut Pihak Pemberi Kerja
B27: Telah Mengadakan Pemeriksaan Bersama Atas Penyelesaian Pekerjaan Pada :
B28: Pekerjaan | D28: : Renovasi Club House
B29: Lokasi | D29: : Premier Pavilion ( Club House )
B30: Dilaksanakan oleh | D30: : Yastiko Arno
B31: Spk No | D31: :
B32: Pekerjaan di mulai | D32: : 14 Juli 2023
B33: Pekerjaan selesai | D33: : 31 Agustus 2023
B34: Total Harga | D34: : 122.225.000,00
B35: Pembayaran I ( Sudah di Bayarkan ) | D35: : 36.000.000,00
B36: Pembayaran II ( Sudah di Bayarkan ) | D36: : 50.000.000,00
B37: Pembayaran III ( Sudah di Bayarkan ) | D37: : 25.000.000,00
B38: Pembayaran IV ( Belum di Bayarkan ) | D38: : 11.225.000,00
B40: Berdasarkan hasil pemeriksaan dan checklist di lapangan,dengan ini dinyatakan bahwa
B41: pekerjaan tersebut di atas dinyatakan telah selesai,maka dengan ini pihak PELAKSANA
B42: PEKERJAAN menyerahkan pekerjaan tersebut kepada pihak PEMBERI KERJA dan pihak
B43: pemberi kerja kemudian bisa menerima pekerjaan tersebut dengan baik
B45: Demikian berita acara ini di buat rangkap untuk bisa di pergunakan sesuai ketentuan
B48: PELAKSANA PEKERJAAN | D48: MENGETAHUI | H48: PEMBERI KERJA
B54: YASTIKO ARNO | D54: ESTATE | H54: PREMIER PAVILION
B55: (+62 8782-5735-653)

Sheet GARANSI-Parung-Panjang
A1: SURAT GARANSI
A2: RENOVASI KOST PARUNG PANJANG
A3: Tanggal 18 Juni 2024
B6: NO : 007/CYB/PRE/VI/2024
B8: Yang bertanda tangan di bawah ini :
B10: Nama | C10: : Yastiko Arno
B12: Jabatan | C12: : Kontraktor
B14: Alamat | C14: : Jln. Warung Gantung Rawalele Rt 003 Rw 010 Blok C No 120-121
C15: Kel. Kalideres Kec. Kalideres Jakarta Barat 11840
B17: Sebagai penyedia jasa kontraktor dan aplikasi renovasi ................., menyatakan bahwa kondisi
B18: matrial-matrial yang kami berikan kepada :
B20: Nama pemberi kerja | C20: : Bp XYZ ( ................... )
B22: Atas pekerjaan aplikasi renovasi ............... dengan
B23: keterangan sebagai berikut :
B25: Lokasi | C25: : Parung Panjang
C26: : ( CLUB HOUSE )
B27: Material | C27: : Terlampir dalam berkas
C28: : BOQ tanggal 19 Juni 2024
B30: Luas pekerjaan | C30: : Terlampir dalam berkas
C31: : arsitektur
B33: Adalah sesuai serta diaplikasi dengan sebaik baiknya sesuai prosedur
B35: Dengan ini kami menjamin ,
B37: Aplikasi pekerjaan dari kami selama 1 (satu) tahun untuk pekerjaan renovasi
B38: yang telah terpasang / dilaksanakan di area kost parung panjang
B40: Dengan Jaminan :
B42: GARANSI berupa gratis jasa aplikator untuk perbaikan jika terjadi kerusakan
B43: ( sesuai dengan syarat dan ketentuan berlaku )
B45: Syarat dan Ketentuan :
B47: 1. Pengajuan klaim garansi hanya berlaku apabila garansi di sertakan dengan bukti-bukti
B48: pembayaran dan berkas tersebut harus dalam keadaan baik
B49: 2. Surat garansi berlaku hingga terjadi 1 (satu) tahun sejak tanggal surat garansi di terbitkan
B50: dan di tanda tangani kedua belah pihak
... B56: bencana alam, kerusuhan , kebakaran) garansi tidak di tanggung oleh pihak kontraktor dan aplikator terkait
B61: HORMAT KAMI | H61: DISETUJUI
B67: YASTIKO ARNO | H67: SAN PROPERTY / PARUNG PANJANG

Sheet INV-Parung-Panjang-San-Pro
B1: Invoice
B3: YASTIKO ARNO | C3: Invoice No. | D3: CYB.PRE.007/06/2024
B4: Jln. Warung Gantung Rawalele Rt 03 / Rw 10 Blok C No 120-121 Kelurahan Kalideres | C4: Bill To | D4: SAN PROPERTY / PARUNG PANJANG
B5: Kecamatan Kalideres, Jakarta Barat 11840 | D5: Bpk. ( SANTOSO )
C6: Address
B8: Phone : 0878-2573-5653 | D8: ( Pekerjaan Renovasi )
B9: Web Site : https://pulangkerumah.business.blog/ | C9: Phone | D9: 081xxx
B10: E-Mail : cyberealestatebusiness@gmail.com | C10: E-Mail
B12: Lampiran : | C12: Deposit Received
B13: ='RAB-Parung-Panjang (L-1)'!G2 -> Jakarta 18 Juni 2024 | C13: Invoice Subtotal
C14: Tax Rate | D14: 0
C15: Invoice Total | D15: =D33 -> 0
C16: Total Amount Due | D16: 0
C17: Amount Paid | D17: 0
B19: Date | C19: Description | D19: Amount
B22: DD / MM / 2024 ( CEK No EC xxxxxx ) | C22: PEMBAYARAN 1 RENOVASI | D22: 0
C23: Sudah di Bayarkan
B24: DD / MM / 2024 ( CEK No EC xxxxxx ) | C24: PEMBAYARAN 2 RENOVASI | D24: 0
C25: Sudah di Bayarkan
B26: DD / MM / 2024 ( CEK No EC xxxxxx ) | C26: PEMBAYARAN 3 RENOVASI | D26: 0
C27: Sudah di Bayarkan
B28: DD / MM / 2024 ( CEK No EC xxxxxx ) | C28: PEMBAYARAN 4 RENOVASI | D28: 0
C29: Belum di Bayarkan
C31: Sub Total | D31: =SUM(D20:D30) -> 0
C32: Tax | D32: 0
C33: Total | D33: =D31+D32 -> 0
B38: Pembayaran untuk invoice ini bisa cash atau ditransfer ke rekening
B39: Bank BCA Cab. Citra Garden 1
B40: No. Rekening : 399-1265706 A.N : YASTIKO ARNO
B45: Hormat Kami | C45: Mengetahui | D45: Menyetujui
B51: YASTIKO ARNO | C51: ESTATE | D51: =D4 -> SAN PROPERTY / PARUNG PANJANG

Sheet INV-Parung-Panjang-Add
B1: Invoice
B3: YASTIKO ARNO | C3: Invoice No. | D3: CYB.PRE.007/06/2024
B4: Jln. Warung Gantung Rawalele Rt 03 / Rw 10 Blok C No 120-121 Kelurahan Kalideres | C4: Bill To | D4: SAN PROPERTY / PARUNG PANJANG
B5: Kecamatan Kalideres,Jakarta Barat 11840 | D5: Bpk. ( SANTOSO )
C6: Address
B8: Phone : 0878-2573-5653 | D8: ( Pekerjaan Additional Renovasi )
B9: Web Site : https://pulangkerumah.business.blog/ | C9: Phone | D9: 081xxx
B10: E-Mail : cyberealestatebusiness@gmail.com | C10: E-Mail
B12: Lampiran : | C12: Deposit Received
B13: ='RAB-Parung-Panjang (L-1)'!G2 -> Jakarta 18 Juni 2024 | C13: Invoice Subtotal
C14: Tax Rate | D14: 0
C15: Invoice Total | D15: =D33 -> 0
C16: Total Amount Due | D16: 0
C17: Amount Paid | D17: 0
B19: Date | C19: Description | D19: Amount
B22: DD / MM / 2024 ( CEK No EC xxxxxx ) | C22: PEMBAYARAN ADD RENOVASI | D22: 0
C23: ADDITIONAL
C24: Belum di bayarkan
C31: Sub Total | D31: =SUM(D20:D30) -> 0
C32: Tax | D32: 0
C33: Total | D33: =D31+D32 -> 0
B38: Pembayaran untuk invoice ini bisa cash atau ditransfer ke rekening
B39: Bank BCA Cab. Citra Garden 1
B40: No. Rekening : 399-1265706 A.N : YASTIKO ARNO
B45: Hormat Kami | C45: Mengetahui | D45: Menyetujui
B51: YASTIKO ARNO | C51: ESTATE | D51: =D4 -> SAN PROPERTY / PARUNG PANJANG
